BEGIN:VCALENDAR
VERSION:2.0
PRODID:-//Tukios.com/
BEGIN:VEVENT
UID:b9987ba9-526c-4d82-897e-bd053f820e9e@www.moorefamilyfuneralhomes.com
DTSTAMP:20260421T015044Z
DTSTART:20260424T160000Z
DTEND:20260424T170000Z
SUMMARY:Funeral Service
DESCRIPTION:
URL:https://www.moorefamilyfuneralhomes.com/obituaries/alvin-cope
LOCATION:Moore Family Funeral Home - Batavia 225 Spring Street  Batavia 
	OH 45103
GEO:39.0760303;-84.1785249
END:VEVENT
END:VCALENDAR