BEGIN:VCALENDAR
VERSION:2.0
PRODID:-//Tukios.com/
BEGIN:VEVENT
UID:fa0cde54-8934-4a0e-9496-1039e11d715b@www.moorefamilyfuneralhomes.com
DTSTAMP:20260421T015333Z
DTSTART:20260424T150000Z
DTEND:20260424T160000Z
SUMMARY:Visitation
DESCRIPTION:
URL:https://www.moorefamilyfuneralhomes.com/obituaries/alvin-cope
LOCATION:Moore Family Funeral Home - Batavia 225 Spring Street  Batavia 
	OH 45103
GEO:39.0760303;-84.1785249
END:VEVENT
END:VCALENDAR