BEGIN:VCALENDAR
VERSION:2.0
PRODID:-//Tukios.com/
BEGIN:VEVENT
UID:9e28f31e-0797-45be-a1ac-8fce36c12d13@www.moorefamilyfuneralhomes.com
DTSTAMP:20260421T084712Z
DTSTART:20260423T231500Z
DTEND:20260424T000000Z
SUMMARY:Memorial Service
DESCRIPTION:
URL:https://www.moorefamilyfuneralhomes.com/obituaries/richard-carson
LOCATION:Moore Family Funeral Home Newtown 6708 Main Street  Newtown OH 
	45244
GEO:39.1245713;-84.3689508
END:VEVENT
END:VCALENDAR