BEGIN:VCALENDAR
VERSION:2.0
PRODID:-//Tukios.com/
BEGIN:VEVENT
UID:23c7afaf-5627-4721-bb96-63dc189b6f60@www.moorefamilyfuneralhomes.com
DTSTAMP:20260421T014600Z
DTSTART:20260423T140000Z
DTEND:20260423T143000Z
SUMMARY:Visitation
DESCRIPTION:
URL:https://www.moorefamilyfuneralhomes.com/obituaries/virginia-hancock
LOCATION: 225 Spring Street  Batavia OH 45103
GEO:39.0760621;-84.1784927
END:VEVENT
END:VCALENDAR