BEGIN:VCALENDAR
VERSION:2.0
PRODID:-//Tukios.com/
BEGIN:VEVENT
UID:b6ec7c7b-3306-40df-9f00-0cc9b2791b7a@www.moorefamilyfuneralhomes.com
DTSTAMP:20260421T015447Z
DTSTART:20260423T143000Z
DTEND:20260423T150000Z
SUMMARY:Funeral Service
DESCRIPTION:
URL:https://www.moorefamilyfuneralhomes.com/obituaries/virginia-hancock
LOCATION: 225 Spring Street  Batavia OH 45103
GEO:39.0760621;-84.1784927
END:VEVENT
END:VCALENDAR