BEGIN:VCALENDAR
VERSION:2.0
PRODID:-//Tukios.com/
BEGIN:VEVENT
UID:e96f6782-f756-49b6-890f-f6469c12430b@www.moorefamilyfuneralhomes.com
DTSTAMP:20260421T014843Z
DTSTART:20260423T160000Z
DTEND:20260423T163000Z
SUMMARY:Graveside Service
DESCRIPTION:
URL:https://www.moorefamilyfuneralhomes.com/obituaries/virginia-hancock
LOCATION: 10209 Plainfield Road  Cincinnati OH 45241
GEO:39.2514803;-84.3990166
END:VEVENT
END:VCALENDAR